BEGIN:VCALENDAR
VERSION:2.0
PRODID:-//Bayonet - ECPv6.15.18//NONSGML v1.0//EN
CALSCALE:GREGORIAN
METHOD:PUBLISH
X-ORIGINAL-URL:https://www.bayonetblackhorse.com
X-WR-CALDESC:Events for Bayonet
REFRESH-INTERVAL;VALUE=DURATION:PT1H
X-Robots-Tag:noindex
X-PUBLISHED-TTL:PT1H
BEGIN:VTIMEZONE
TZID:America/Los_Angeles
BEGIN:DAYLIGHT
TZOFFSETFROM:-0800
TZOFFSETTO:-0700
TZNAME:PDT
DTSTART:20250309T100000
END:DAYLIGHT
BEGIN:STANDARD
TZOFFSETFROM:-0700
TZOFFSETTO:-0800
TZNAME:PST
DTSTART:20251102T090000
END:STANDARD
BEGIN:DAYLIGHT
TZOFFSETFROM:-0800
TZOFFSETTO:-0700
TZNAME:PDT
DTSTART:20260308T100000
END:DAYLIGHT
BEGIN:STANDARD
TZOFFSETFROM:-0700
TZOFFSETTO:-0800
TZNAME:PST
DTSTART:20261101T090000
END:STANDARD
BEGIN:DAYLIGHT
TZOFFSETFROM:-0800
TZOFFSETTO:-0700
TZNAME:PDT
DTSTART:20270314T100000
END:DAYLIGHT
BEGIN:STANDARD
TZOFFSETFROM:-0700
TZOFFSETTO:-0800
TZNAME:PST
DTSTART:20271107T090000
END:STANDARD
END:VTIMEZONE
BEGIN:VEVENT
DTSTART;TZID=America/Los_Angeles:20260315T100000
DTEND;TZID=America/Los_Angeles:20260315T150000
DTSTAMP:20260419T045411
CREATED:20260220T163224Z
LAST-MODIFIED:20260220T163224Z
UID:5729-1773568800-1773586800@www.bayonetblackhorse.com
SUMMARY:St. Patrick's Day 2 Person Scramble
DESCRIPTION:2026 St. Patrick’s Day\n2 Person Scramble\n\n\n\nDate: March 15th\, Sunday\nPrizes:\n1st Place\n3 Month Free Executive Pass (Unlimited Green Fees and Range Balls)\n2nd Place\nEach Player will receive $100 Gift Card\nFormat:\n2 Person Scramble no Handicaps\nCourse: Bayonet\nYardage:\nMen – White Tees (5915 Yards)\nWomen – Red Tees (5040 Yards)\nEntry Fee Includes:\nGreen Fee\, Golf Cart\, Range Balls\,\nDozen Taylormade Balls\, BBH Camelbak Tumbler\nTee Time: \n10:00am Tee Times\nEntry Fee: \n$150 per player
URL:https://www.bayonetblackhorse.com/event/st-patricks-day-2-person-scramble/
LOCATION:Bayonet Black Horse\, 1 McClure Way\, Seaside\, CA\, 93955-7100\, United States
CATEGORIES:Golf
ORGANIZER;CN="Tim Hlebo":MAILTO:timh@bbhgolf.com
END:VEVENT
END:VCALENDAR