BEGIN:VCALENDAR
VERSION:2.0
PRODID:-//Bayonet - ECPv6.15.18//NONSGML v1.0//EN
CALSCALE:GREGORIAN
METHOD:PUBLISH
X-WR-CALNAME:Bayonet
X-ORIGINAL-URL:https://www.bayonetblackhorse.com
X-WR-CALDESC:Events for Bayonet
REFRESH-INTERVAL;VALUE=DURATION:PT1H
X-Robots-Tag:noindex
X-PUBLISHED-TTL:PT1H
BEGIN:VTIMEZONE
TZID:America/Los_Angeles
BEGIN:DAYLIGHT
TZOFFSETFROM:-0800
TZOFFSETTO:-0700
TZNAME:PDT
DTSTART:20240310T100000
END:DAYLIGHT
BEGIN:STANDARD
TZOFFSETFROM:-0700
TZOFFSETTO:-0800
TZNAME:PST
DTSTART:20241103T090000
END:STANDARD
BEGIN:DAYLIGHT
TZOFFSETFROM:-0800
TZOFFSETTO:-0700
TZNAME:PDT
DTSTART:20250309T100000
END:DAYLIGHT
BEGIN:STANDARD
TZOFFSETFROM:-0700
TZOFFSETTO:-0800
TZNAME:PST
DTSTART:20251102T090000
END:STANDARD
BEGIN:DAYLIGHT
TZOFFSETFROM:-0800
TZOFFSETTO:-0700
TZNAME:PDT
DTSTART:20260308T100000
END:DAYLIGHT
BEGIN:STANDARD
TZOFFSETFROM:-0700
TZOFFSETTO:-0800
TZNAME:PST
DTSTART:20261101T090000
END:STANDARD
END:VTIMEZONE
BEGIN:VEVENT
DTSTART;TZID=America/Los_Angeles:20250622T090000
DTEND;TZID=America/Los_Angeles:20250622T150000
DTSTAMP:20260419T093259
CREATED:20250611T204318Z
LAST-MODIFIED:20250611T204318Z
UID:4414-1750582800-1750604400@www.bayonetblackhorse.com
SUMMARY:2025 Tournament Series
DESCRIPTION:June 22nd @ 9am SG\n2-Person Chapman\nCourse: Bayonet\nTee Prize: TBD\nWill be a 2-Person Chapman alternate shot format. Both players tee off\, then go their partners ball and each player hits a second shot from their partners tee shot. Team then takes the best ball from the second shots and the team plays alternate shot until hole is completed. 50% of combined team handicap.
URL:https://www.bayonetblackhorse.com/event/2025-tournament-series/
LOCATION:Bayonet Black Horse\, 1 McClure Way\, Seaside\, CA\, 93955-7100\, United States
CATEGORIES:Golf
ORGANIZER;CN="Mike Spiller":MAILTO:mspiller@bayonetblackhorse.com
END:VEVENT
END:VCALENDAR