BEGIN:VCALENDAR
VERSION:2.0
PRODID:-//Bayonet - ECPv6.15.18//NONSGML v1.0//EN
CALSCALE:GREGORIAN
METHOD:PUBLISH
X-WR-CALNAME:Bayonet
X-ORIGINAL-URL:https://www.bayonetblackhorse.com
X-WR-CALDESC:Events for Bayonet
REFRESH-INTERVAL;VALUE=DURATION:PT1H
X-Robots-Tag:noindex
X-PUBLISHED-TTL:PT1H
BEGIN:VTIMEZONE
TZID:UTC
BEGIN:STANDARD
TZOFFSETFROM:+0000
TZOFFSETTO:+0000
TZNAME:UTC
DTSTART:20230101T000000
END:STANDARD
END:VTIMEZONE
BEGIN:VEVENT
DTSTART;TZID=UTC:20241016T090000
DTEND;TZID=UTC:20241016T140000
DTSTAMP:20260421T052354
CREATED:20240909T223302Z
LAST-MODIFIED:20240909T223302Z
UID:3209-1729069200-1729087200@www.bayonetblackhorse.com
SUMMARY:Titleist Fitting Day
DESCRIPTION:The new GT line consists of three models. GT2 is designed for speed and forgiveness across the face with a higher-MOI setup. GT3 is designed for fine-tuned speed and control\, maximizing distance and optimizing flight. GT4 is a low-spin\, 430cc driver designed to eliminate excessive spin and deliver a fast\, penetrating trajectory. \nEach driver in the GT line features an all-new Seamless Thermoform Crown comprised of a new Proprietary Matrix Polymer. This unique\, ultra-light material allowed Titleist engineers to place discretionary mass in the optimal locations for each model\, providing exceptional speed and stability with GT’s Split Mass Construction. GT maintains the classic Titleist driver look at address with a clean transition between the crown and the club’s titanium body\, and the acoustic properties of the Proprietary Matrix Polymer preserve a player-preferred sound and feel. Refined aerodynamics increase clubhead speed\, and a new Speed Ring and VFT face design contribute to faster ball speed on on- and off-center strikes. The sum of these advancements creates an exceptionally fast driver that offers extremely consistent spin and launch conditions across the face. \n\n10% discount will be provided on the day of the event.\n*Fittings are by appointment only \nRegister Here
URL:https://www.bayonetblackhorse.com/event/titleist-fitting-day-2/
LOCATION:Bayonet Black Horse\, 1 McClure Way\, Seaside\, CA\, 93955-7100\, United States
CATEGORIES:Golf
END:VEVENT
END:VCALENDAR