BEGIN:VCALENDAR
VERSION:2.0
PRODID:-//Bayonet - ECPv6.15.18//NONSGML v1.0//EN
CALSCALE:GREGORIAN
METHOD:PUBLISH
X-WR-CALNAME:Bayonet
X-ORIGINAL-URL:https://www.bayonetblackhorse.com
X-WR-CALDESC:Events for Bayonet
REFRESH-INTERVAL;VALUE=DURATION:PT1H
X-Robots-Tag:noindex
X-PUBLISHED-TTL:PT1H
BEGIN:VTIMEZONE
TZID:UTC
BEGIN:STANDARD
TZOFFSETFROM:+0000
TZOFFSETTO:+0000
TZNAME:UTC
DTSTART:20220101T000000
END:STANDARD
END:VTIMEZONE
BEGIN:VEVENT
DTSTART;TZID=UTC:20230923T090000
DTEND;TZID=UTC:20230923T130000
DTSTAMP:20260423T115221
CREATED:20230712T221857Z
LAST-MODIFIED:20230712T221857Z
UID:838-1695459600-1695474000@www.bayonetblackhorse.com
SUMMARY:Callaway Fitting Day
DESCRIPTION:Get fit for the new Rogue ST Woods & Irons by a Callaway representative! \nThere will be a fitting fee that will be put towards any purchase made and a 10% discount will be provided on the day of the event. \n*Fittings are by appointment only \nClick Here to register
URL:https://www.bayonetblackhorse.com/event/callaway-fitting-day/
LOCATION:CA
END:VEVENT
END:VCALENDAR